BEGIN:VCALENDAR
VERSION:2.0
PRODID:-//ChamberMaster//Event Calendar 2.0//EN
METHOD:PUBLISH
X-PUBLISHED-TTL:P3D
REFRESH-INTERVAL:P3D
CALSCALE:GREGORIAN
BEGIN:VEVENT
DTSTART;VALUE=DATE:20100621
DTEND;VALUE=DATE:20100713
TRANSP:TRANSPARENT
X-MICROSOFT-CDO-ALLDAYEVENT:TRUE
SUMMARY:West District YMCA Youth T-Ball Registration for Brownsburg
DESCRIPTION:Registration has started for our non-competitive Youth T-Ball program in Brownsburg. T-ball registration ends July 12\, 2010.  The fee is $56.00.  The registration fee includes:  Team shirt\, hat and participation trophy.\nBrownsburg T-ball league will start July 20 – August 10\, 2010.  Practices and games will be held on Tuesdays from 5:00 – 8:00 pm and Saturdays from 9:00am – 12:00pm at St. Malachy Parrish Schools located at 330 N. Green St in Brownsburg\, Indiana.\nTo register you can take advantage of online registration by visiting www.indymca.org\, contact the West District Branch YMCA at 317-484-9622 and we can fax or mail you a registration form.  Or stop by the West District branch YMCA Office at 7811 W. Morris St\, Indianapolis\, IN  46231 and complete the form.
X-ALT-DESC;FMTTYPE=text/html:Registration has started for our non-competitive Youth T-Ball program in Brownsburg. T-ball registration ends July 12\, 2010.  The fee is $56.00.  The registration fee includes:  Team shirt\, hat and participation trophy.\nBrownsburg T-ball league will start July 20 – August 10\, 2010.  Practices and games will be held on Tuesdays from 5:00 – 8:00 pm and Saturdays from 9:00am – 12:00pm at St. Malachy Parrish Schools located at 330 N. Green St in Brownsburg\, Indiana.\nTo register you can take advantage of online registration by visiting www.indymca.org\, contact the West District Branch YMCA at 317-484-9622 and we can fax or mail you a registration form.  Or stop by the West District branch YMCA Office at 7811 W. Morris St\, Indianapolis\, IN  46231 and complete the form. \n
LOCATION:St. Malachy Parish Schools\, Brownsburg\, IN 46112
UID:e.2778.981
SEQUENCE:3
DTSTAMP:20260421T143358Z
URL:https://www.brownsburg.com/events/details/west-district-ymca-youth-t-ball-registration-for-brownsburg-06-21-2010-981
END:VEVENT

END:VCALENDAR
