BEGIN:VCALENDAR
VERSION:2.0
PRODID:-//ChamberMaster//Event Calendar 2.0//EN
METHOD:PUBLISH
X-PUBLISHED-TTL:P3D
REFRESH-INTERVAL:P3D
CALSCALE:GREGORIAN
BEGIN:VEVENT
DTSTART:20051210T143000Z
DTEND:20051210T173000Z
X-MICROSOFT-CDO-ALLDAYEVENT:FALSE
SUMMARY:White Lick Presbyterian Church--Family Mission Statement Workshop
DESCRIPTION:All are welcome to the Family Mission Statement Workshop from 9:30-12:30\, on Saturday\, the 10th.  Bring your family (school age to ancient age welcome) and prepare for a stimulating time to sit and discuss what matters most to your family. What makes your family special? What do you value in your family relationships? PRE-REGISTRATION is required. Contact Ginny Sheets - 852-5514.
X-ALT-DESC;FMTTYPE=text/html:All are welcome to the Family Mission Statement Workshop from 9:30-12:30\, on Saturday\, the 10th.  Bring your family (school age to ancient age welcome) and prepare for a stimulating time to sit and discuss what matters most to your family. What makes your family special? What do you value in your family relationships? PRE-REGISTRATION is required. Contact Ginny Sheets - 852-5514.
LOCATION:2530 North County Road 600 East\, Avon\, IN 46123 2530 North County Road 600 East. Take 350 N. west from 267\, turn south onto 600 E and follow until it T's into the church.
UID:e.2778.62
SEQUENCE:3
DTSTAMP:20260424T235122Z
URL:https://www.brownsburg.com/events/details/white-lick-presbyterian-church-family-mission-statement-workshop-12-10-2005-62
END:VEVENT

END:VCALENDAR
