BEGIN:VCALENDAR
VERSION:2.0
PRODID:-//ChamberMaster//Event Calendar 2.0//EN
METHOD:PUBLISH
X-PUBLISHED-TTL:P3D
REFRESH-INTERVAL:P3D
CALSCALE:GREGORIAN
BEGIN:VEVENT
DTSTART:20051210T133000Z
DTEND:20051210T153000Z
X-MICROSOFT-CDO-ALLDAYEVENT:FALSE
SUMMARY:White Lick Presbyterian Church--Pancake Breakfast
DESCRIPTION:The Presbyterian Women's organization of the Whitelick Presbyterian Church will serve breakfast from 8:30 to 10:30 a.m. on Saturday\, December 10\, 2005 in the Fellowship Hall.  Everyone is welcome!!!\n\nThe menu will include bacon\, sausage\, pancakes\, eggs\, omelets\, fruit\, coffee\, tea\, and juice.\n\nThe cost will be $5 for adults\, $3 for children 6-12\, and free for children under 6.  Proceeds will be used for the church's local mission work.
X-ALT-DESC;FMTTYPE=text/html:The Presbyterian Women's organization of the Whitelick Presbyterian Church will serve breakfast from 8:30 to 10:30 a.m. on Saturday\, December 10\, 2005 in the Fellowship Hall.  Everyone is welcome!!!\n\nThe menu will include bacon\, sausage\, pancakes\, eggs\, omelets\, fruit\, coffee\, tea\, and juice.\n\nThe cost will be $5 for adults\, $3 for children 6-12\, and free for children under 6.  Proceeds will be used for the church's local mission work.\n
LOCATION:2530 North County Road 600 East\, Avon\, IN 46123 2530 North County Road 600 East. Take 350 N. west from 267\, turn south onto 600 E and follow until it T's into the church.
UID:e.2778.63
SEQUENCE:3
DTSTAMP:20260424T234904Z
URL:https://www.brownsburg.com/events/details/white-lick-presbyterian-church-pancake-breakfast-12-10-2005-63
END:VEVENT

END:VCALENDAR
