BEGIN:VCALENDAR
VERSION:2.0
PRODID:-//ChamberMaster//Event Calendar 2.0//EN
METHOD:PUBLISH
X-PUBLISHED-TTL:P3D
REFRESH-INTERVAL:P3D
CALSCALE:GREGORIAN
BEGIN:VEVENT
DTSTART:20060812T120000Z
DTEND:20060812T140000Z
X-MICROSOFT-CDO-ALLDAYEVENT:FALSE
SUMMARY:White Lick Presbyterian Women's Pancake Breakfast
DESCRIPTION:The Presbyterian Women's organization of the Whitelick Presbyterian Church will serve breakfast from 8:00 to 10:00 a.m. on Saturday\, August 12\, 2006\, in the Fellowship Hall.  Everyone is welcome!!!\n\nThe menu will include bacon\, sausage\, pancakes\, eggs\, omelets\, fruit\, coffee\, tea\, and juice.\n\nThe cost will be $5 for adults\, $3 for children 6-12\, and free for children under 6.  Proceeds will be used for the church's local mission work.\n\n\n\n''Worship   Grow     Serve'' -- For further information call the Church office at 317-852-2840 or visit us on the web at www.whitelickpcusa.org.  Whitelick Presbyterian Church is located at 2530 N 600 E in Avon – take SR267 to CR200N\, turn west on 200N to 600E\, turn north to church.
X-ALT-DESC;FMTTYPE=text/html:The Presbyterian Women's organization of the Whitelick Presbyterian Church will serve breakfast from 8:00 to 10:00 a.m. on Saturday\, August 12\, 2006\, in the Fellowship Hall.  Everyone is welcome!!!\n\nThe menu will include bacon\, sausage\, pancakes\, eggs\, omelets\, fruit\, coffee\, tea\, and juice.\n\nThe cost will be $5 for adults\, $3 for children 6-12\, and free for children under 6.  Proceeds will be used for the church's local mission work.\n\n\n\n''Worship   Grow     Serve'' -- For further information call the Church office at 317-852-2840 or visit us on the web at www.whitelickpcusa.org.  Whitelick Presbyterian Church is located at 2530 N 600 E in Avon – take SR267 to CR200N\, turn west on 200N to 600E\, turn north to church.\n
LOCATION:2530 North County Road 600 East\, Avon\, IN 46123 Whitelick Presbyterian Church is located at 2530 North 600 East\, between Avon and Brownsburg. At the stoplight at 200N\, turn west and drive to the “T” in the road\, which is 600 East. Turn north to the church. The cost will be $5 for adults\, $3 for children 6-12\, and free for children under 6. Proceeds will be used for the church’s local mission work. For more information\, please call the church office at 852-2840.
UID:e.2778.191
SEQUENCE:3
DTSTAMP:20260424T125440Z
URL:https://www.brownsburg.com/events/details/white-lick-presbyterian-women-s-pancake-breakfast-08-12-2006-191
END:VEVENT

END:VCALENDAR
