BEGIN:VCALENDAR
VERSION:2.0
PRODID:-//ChamberMaster//Event Calendar 2.0//EN
METHOD:PUBLISH
X-PUBLISHED-TTL:P3D
REFRESH-INTERVAL:P3D
CALSCALE:GREGORIAN
BEGIN:VEVENT
DTSTART:20060211T133000Z
DTEND:20060211T153000Z
X-MICROSOFT-CDO-ALLDAYEVENT:FALSE
SUMMARY:Whitelick Presbyterian Breakfast
DESCRIPTION:The Presbyterian Women's organization of the Whitelick Presbyterian Church will serve breakfast from 8:30 to 10:30 a.m. on Saturday\, February 11\, 2006\, in the Fellowship Hall.  Everyone is welcome!!!\n\nThe menu will include bacon\, sausage\, pancakes\, eggs\, omelets\, fruit\, coffee\, tea\, and juice.\n\nThe cost will be $5 for adults\, $3 for children 6-12\, and free for children under 6.  Proceeds will be used for the church's local mission work.
X-ALT-DESC;FMTTYPE=text/html:The Presbyterian Women's organization of the Whitelick Presbyterian Church will serve breakfast from 8:30 to 10:30 a.m. on Saturday\, February 11\, 2006\, in the Fellowship Hall.  Everyone is welcome!!!\n\nThe menu will include bacon\, sausage\, pancakes\, eggs\, omelets\, fruit\, coffee\, tea\, and juice.\n\nThe cost will be $5 for adults\, $3 for children 6-12\, and free for children under 6.  Proceeds will be used for the church's local mission work.\n
LOCATION:2530 North County Road 600 East\, Avon\, IN 46123 2530 N 600 E\; Avon. SR267 to 200N\, west on 200N to 600 E\, turn north to church. The cost will be $5 for adults\, $3 for children.
UID:e.2778.93
SEQUENCE:3
DTSTAMP:20260424T203743Z
URL:https://www.brownsburg.com/events/details/whitelick-presbyterian-breakfast-02-11-2006-93
END:VEVENT

END:VCALENDAR
