BEGIN:VCALENDAR
VERSION:2.0
PRODID:-//ChamberMaster//Event Calendar 2.0//EN
METHOD:PUBLISH
X-PUBLISHED-TTL:P3D
REFRESH-INTERVAL:P3D
CALSCALE:GREGORIAN
BEGIN:VEVENT
DTSTART:20061118T220000Z
DTEND:20061119T000000Z
X-MICROSOFT-CDO-ALLDAYEVENT:FALSE
SUMMARY:Whitelick Presbyterian Church Annual Chili Supper and Craft Bazaar
DESCRIPTION:The congregation at Whitelick Presbyterian Church invites all to The Annual Chili Supper & Craft Bazaar on Saturday\, November 4\, 2006\, from 5:00-7:00 PM.  Chili\, hot dogs\, potato salad\, drinks\, and desserts will be served – ''all you can eat.''  An assortment of crafts will be available for sale.\n\nThe cost of the meal will be $7.00 for adults\, $4.00 for children 6-12\, and free for children under 5.\n\n''Worship   Grow   Serve'' in worship\, fellowship\, and missions.  For further information call the Church office at 852-2840 or visit us on the web at www.whitelickpcusa.org.  Whitelick Presbyterian Church is located at 2530 N 600 E in Avon – take SR267 to CR200N\, turn west on 200N to 600E\, turn north to church.
X-ALT-DESC;FMTTYPE=text/html:The congregation at Whitelick Presbyterian Church invites all to The Annual Chili Supper & Craft Bazaar on Saturday\, November 4\, 2006\, from 5:00-7:00 PM.  Chili\, hot dogs\, potato salad\, drinks\, and desserts will be served – ''all you can eat.''  An assortment of crafts will be available for sale.\n\nThe cost of the meal will be $7.00 for adults\, $4.00 for children 6-12\, and free for children under 5.\n\n''Worship   Grow   Serve'' in worship\, fellowship\, and missions.  For further information call the Church office at 852-2840 or visit us on the web at www.whitelickpcusa.org.  Whitelick Presbyterian Church is located at 2530 N 600 E in Avon – take SR267 to CR200N\, turn west on 200N to 600E\, turn north to church.\n
LOCATION:2530 North County Road 600 East\, Avon\, IN 46123 The congregation at Whitelick Presbyterian Church invites all to The Annual Chili Supper & Craft Bazaar on Saturday\, November 4\, 2006\, from 5:00-7:00 PM. Chili\, hot dogs\, potato salad\, drinks\, and desserts will be served – “all you can eat.” An assortment of crafts will be available for sale. The cost of the meal will be $7.00 for adults\, $4.00 for children 6-12\, and free for children under 5.
UID:e.2778.370
SEQUENCE:3
DTSTAMP:20260424T073253Z
URL:https://www.brownsburg.com/events/details/whitelick-presbyterian-church-annual-chili-supper-and-craft-bazaar-11-18-2006-370
END:VEVENT

END:VCALENDAR
