BEGIN:VCALENDAR
VERSION:2.0
PRODID:-//ChamberMaster//Event Calendar 2.0//EN
METHOD:PUBLISH
X-PUBLISHED-TTL:P3D
REFRESH-INTERVAL:P3D
CALSCALE:GREGORIAN
BEGIN:VEVENT
DTSTART:20051105T220000Z
DTEND:20051106T000000Z
X-MICROSOFT-CDO-ALLDAYEVENT:FALSE
SUMMARY:Whitelick Presbyterian Church Annual Chili Supper & Craft Bazaar
DESCRIPTION:The congregation at Whitelick Presbyterian Church invites all to The Annual Chili Supper & Craft Bazaar on Saturday\, November 5\, 2005\, from 5:00-7:00 PM.  Chili\, hot dogs\, potato salad\, drinks\, and desserts will be served – ''all you can eat.''  An assortment of crafts will be available for sale.\n\nThe cost of the meal will be $6.00 for adults\, $4.00 for children 6-12\, and free for children under 5.\n\nContact Carol Denny (892-4576)\, Carol McGowan (852-2341)\, or Lynn Turner (272-7929) for further details.
X-ALT-DESC;FMTTYPE=text/html:The congregation at Whitelick Presbyterian Church invites all to The Annual Chili Supper & Craft Bazaar on Saturday\, November 5\, 2005\, from 5:00-7:00 PM.  Chili\, hot dogs\, potato salad\, drinks\, and desserts will be served – ''all you can eat.''  An assortment of crafts will be available for sale.\n\nThe cost of the meal will be $6.00 for adults\, $4.00 for children 6-12\, and free for children under 5.\n\nContact Carol Denny (892-4576)\, Carol McGowan (852-2341)\, or Lynn Turner (272-7929) for further details.\n
LOCATION:2530 North County Road 600 East\, Avon\, IN 46123 2530 North County Road 600 East. Take 350 N. west from 267\, turn south onto 600 E and follow until it T's into the church.
UID:e.2778.52
SEQUENCE:3
DTSTAMP:20260425T031149Z
URL:https://www.brownsburg.com/events/details/whitelick-presbyterian-church-annual-chili-supper-craft-bazaar-11-05-2005-52
END:VEVENT

END:VCALENDAR
