BEGIN:VCALENDAR
VERSION:2.0
PRODID:-//ChamberMaster//Event Calendar 2.0//EN
METHOD:PUBLISH
X-PUBLISHED-TTL:P3D
REFRESH-INTERVAL:P3D
CALSCALE:GREGORIAN
BEGIN:VEVENT
DTSTART:20051225T153000Z
DTEND:20051225T153000Z
X-MICROSOFT-CDO-ALLDAYEVENT:FALSE
SUMMARY:Whitelick Presbyterian Church--Christmas Day Service
DESCRIPTION:Christmas Day December 25\n10:30 am Worship (Holy Communion)
X-ALT-DESC;FMTTYPE=text/html:Christmas Day December 25\n10:30 am Worship (Holy Communion)\n
LOCATION:2530 North County Road 600 East\, Avon\, IN 46123 2530 North County Road 600 East. Take 350 N. west from 267\, turn south onto 600 E and follow until it T's into the church. Christmas morning service and communion.
UID:e.2778.67
SEQUENCE:3
DTSTAMP:20260425T013553Z
URL:https://www.brownsburg.com/events/details/whitelick-presbyterian-church-christmas-day-service-12-25-2005-67
END:VEVENT

END:VCALENDAR
