BEGIN:VCALENDAR
VERSION:2.0
PRODID:-//ChamberMaster//Event Calendar 2.0//EN
METHOD:PUBLISH
X-PUBLISHED-TTL:P3D
REFRESH-INTERVAL:P3D
CALSCALE:GREGORIAN
BEGIN:VEVENT
DTSTART:20051225T000000Z
DTEND:20051225T000000Z
X-MICROSOFT-CDO-ALLDAYEVENT:FALSE
SUMMARY:Whitelick Presbyterian Church--Christmas Eve
DESCRIPTION:Christmas Eve December 24\n7 pm Candlelight Christmas Eve Scriptures and Carols Service
X-ALT-DESC;FMTTYPE=text/html:Christmas Eve December 24\n7 pm Candlelight Christmas Eve Scriptures and Carols Service \n
LOCATION:2530 North County Road 600 East\, Avon\, IN 46123 2530 North County Road 600 East. Take 350 N. west from 267\, turn south onto 600 E and follow until it T's into the church. Candlelight and carols service.
UID:e.2778.66
SEQUENCE:3
DTSTAMP:20260425T001220Z
URL:https://www.brownsburg.com/events/details/whitelick-presbyterian-church-christmas-eve-12-24-2005-66
END:VEVENT

END:VCALENDAR
