BEGIN:VCALENDAR
VERSION:2.0
PRODID:-//ChamberMaster//Event Calendar 2.0//EN
METHOD:PUBLISH
X-PUBLISHED-TTL:P3D
REFRESH-INTERVAL:P3D
CALSCALE:GREGORIAN
BEGIN:VEVENT
DTSTART:20070210T220000Z
DTEND:20070211T000000Z
X-MICROSOFT-CDO-ALLDAYEVENT:FALSE
SUMMARY:Whitelick Presbyterian Church Dinner
DESCRIPTION:Whitelick Presbyterian Church invites you to their\nAnnual Chicken & Noodle Dinner\n Saturday\, February 10\, 2007\n5-7pm\n$8 for adults & $5 for children 6-12\nChildren under 5 are free\nFor more information please contact \nDiana Kirby(272-3823) or\nBeth Harmon(745-6001)
X-ALT-DESC;FMTTYPE=text/html:   \nWhitelick Presbyterian Church invites you to their\nAnnual Chicken & Noodle Dinner\n Saturday\, February 10\, 2007\n5-7pm\n$8 for adults & $5 for children 6-12\nChildren under 5 are free\nFor more information please contact \nDiana Kirby(272-3823) or\nBeth Harmon(745-6001)\n
LOCATION:2530 North County Road 600 East\, Avon\, IN 46123
UID:e.2778.428
SEQUENCE:3
DTSTAMP:20260424T030511Z
URL:https://www.brownsburg.com/events/details/whitelick-presbyterian-church-dinner-02-10-2007-428
END:VEVENT

END:VCALENDAR
