BEGIN:VCALENDAR
VERSION:2.0
PRODID:-//ChamberMaster//Event Calendar 2.0//EN
METHOD:PUBLISH
X-PUBLISHED-TTL:P3D
REFRESH-INTERVAL:P3D
CALSCALE:GREGORIAN
BEGIN:VEVENT
DTSTART:20050625T130000Z
DTEND:20050625T190000Z
X-MICROSOFT-CDO-ALLDAYEVENT:FALSE
SUMMARY:Whitelick Presbyterian Church Garage Sale & Car Wash
DESCRIPTION:The Mission Ministry Team at Whitelick Presbyterian Church will have a Church Garage Sale and Car Wash to raise funds for the Mexican Mission Trip.\n\nThe garage sale and car wash will be held in the parking lot of K-Mart at SR267 and Norhtfield Dr. in Brownsburg\, IN.  Car washes will be available for $5 per car.  \n\nFor more information on how you can help this great cause with donations\, etc.\, please contact Jim Hill at 241-4041.
X-ALT-DESC;FMTTYPE=text/html:The Mission Ministry Team at Whitelick Presbyterian Church will have a Church Garage Sale and Car Wash to raise funds for the Mexican Mission Trip.\n\nThe garage sale and car wash will be held in the parking lot of K-Mart at SR267 and Norhtfield Dr. in Brownsburg\, IN.  Car washes will be available for $5 per car.  \n\nFor more information on how you can help this great cause with donations\, etc.\, please contact Jim Hill at 241-4041.
LOCATION:9735 East 350 North\, Brownsburg\, IN 46112 Krohne's Red Barn. For more information on sale\, car wash and/or donations\, call Jim Hill at 241-4041.
UID:e.2778.38
SEQUENCE:3
DTSTAMP:20260425T110147Z
URL:https://www.brownsburg.com/events/details/whitelick-presbyterian-church-garage-sale-car-wash-06-25-2005-38
END:VEVENT

END:VCALENDAR
