BEGIN:VCALENDAR
VERSION:2.0
PRODID:-//ChamberMaster//Event Calendar 2.0//EN
METHOD:PUBLISH
X-PUBLISHED-TTL:P3D
REFRESH-INTERVAL:P3D
CALSCALE:GREGORIAN
BEGIN:VEVENT
DTSTART;VALUE=DATE:20060322
DTEND;VALUE=DATE:20060406
TRANSP:TRANSPARENT
X-MICROSOFT-CDO-ALLDAYEVENT:TRUE
SUMMARY:Whitelick Presbyterian Church Moment of Quiet Meditation
DESCRIPTION:Moments of Quiet Meditation in a beautiful 19t century candlelit sanctuary.\n\nWhitelick Presbyterian Church\, Avon\, invites the community to Wednesday evening Lenten Prayer and Song Services at 7:00pm March 22\, 29 & April 5.  These 45-minute quiet\, meditatve services include music from the community of Taize\, as well as familiar hymns and songs accompanied by piano and flute.\n\nOn Wednesday\, April 5\, an 11-circuit labyrinth will be available for Prayer Walking in the church fellowship hall from 6-7pm and 8-9pm.\n\nWhitelick Presbyterian Church is located between Brownsburg and Avon at 2530 N. 600 E.\n\nFor more information\, call (317) 852-2840\, or visit the church website at www.whitelickpcusa.org.
X-ALT-DESC;FMTTYPE=text/html:Moments of Quiet Meditation in a beautiful 19t century candlelit sanctuary.\n\nWhitelick Presbyterian Church\, Avon\, invites the community to Wednesday evening Lenten Prayer and Song Services at 7:00pm March 22\, 29 & April 5.  These 45-minute quiet\, meditatve services include music from the community of Taize\, as well as familiar hymns and songs accompanied by piano and flute.\n\nOn Wednesday\, April 5\, an 11-circuit labyrinth will be available for Prayer Walking in the church fellowship hall from 6-7pm and 8-9pm.\n\nWhitelick Presbyterian Church is located between Brownsburg and Avon at 2530 N. 600 E.\n\nFor more information\, call (317) 852-2840\, or visit the church website at www.whitelickpcusa.org.
LOCATION:2530 North County Road 600 East\, Avon\, IN 46123 2530 N. Co. Rd. 600 E. The community is invited to Wednesday evening Lenten Prayer and Song Services at 7:00 p.m. on March 22\, 29 & April 5. Call (317) 852-2840 for more information
UID:e.2778.168
SEQUENCE:3
DTSTAMP:20260424T173831Z
URL:https://www.brownsburg.com/events/details/whitelick-presbyterian-church-moment-of-quiet-meditation-03-22-2006-168
END:VEVENT

END:VCALENDAR
