BEGIN:VCALENDAR
VERSION:2.0
PRODID:-//ChamberMaster//Event Calendar 2.0//EN
METHOD:PUBLISH
X-PUBLISHED-TTL:P3D
REFRESH-INTERVAL:P3D
CALSCALE:GREGORIAN
BEGIN:VEVENT
DTSTART:20060311T133000Z
DTEND:20060311T153000Z
X-MICROSOFT-CDO-ALLDAYEVENT:FALSE
SUMMARY:Whitelick Presbyterian Church Pancake Breakfast
DESCRIPTION:The Presbyterian Women's organization of the Whitelick Presbyterian Church will serve breakfast from 8:30 to 10:30 a.m. on Saturday\, March 11\, 2006\, in the Fellowship Hall.  Everyone is welcome!!!\n\nThe menu will include bacon\, sausage\, pancakes\, eggs\, omelets\, fruit\, coffee\, tea\, and juice.\n\nThe cost will be $5 for adults\, $3 for children 6-12\, and free for children under 6.  Proceeds will be used for the church's local mission work.\n\n\n\n''Worship   Grow     Serve'' -- For further information call the Church office at 317-852-2840 or visit us on the web at www.whitelickpcusa.org.  Whitelick Presbyterian Church is located at 2530 N 600 E in Avon – take SR267 to CR200N\, turn west on 200N to 600E\, turn north to church.
X-ALT-DESC;FMTTYPE=text/html:The Presbyterian Women's organization of the Whitelick Presbyterian Church will serve breakfast from 8:30 to 10:30 a.m. on Saturday\, March 11\, 2006\, in the Fellowship Hall.  Everyone is welcome!!!\n\nThe menu will include bacon\, sausage\, pancakes\, eggs\, omelets\, fruit\, coffee\, tea\, and juice.\n\nThe cost will be $5 for adults\, $3 for children 6-12\, and free for children under 6.  Proceeds will be used for the church's local mission work.\n\n\n\n''Worship   Grow     Serve'' -- For further information call the Church office at 317-852-2840 or visit us on the web at www.whitelickpcusa.org.  Whitelick Presbyterian Church is located at 2530 N 600 E in Avon – take SR267 to CR200N\, turn west on 200N to 600E\, turn north to church.\n
LOCATION:2530 North County Road 600 East\, Avon\, IN 46123 located at 2530 N 600 E in Avon – take SR267 to CR200N\, turn west on 200N to 600E\, turn north to church. Everyone is welcome! The menu will include bacon\, sausage\, pancakes\, eggs\, omelets\, fruit\, coffee\, tea\, and juice. The cost will be $5 for adults\, $3 for children 6-12\, and free for children under 6. Proceeds will be used for the church’s local mission work.
UID:e.2778.160
SEQUENCE:3
DTSTAMP:20260424T204020Z
URL:https://www.brownsburg.com/events/details/whitelick-presbyterian-church-pancake-breakfast-03-11-2006-160
END:VEVENT

END:VCALENDAR
