BEGIN:VCALENDAR
VERSION:2.0
PRODID:-//ChamberMaster//Event Calendar 2.0//EN
METHOD:PUBLISH
X-PUBLISHED-TTL:P3D
REFRESH-INTERVAL:P3D
CALSCALE:GREGORIAN
BEGIN:VEVENT
DTSTART;VALUE=DATE:20060815
DTEND;VALUE=DATE:20060816
TRANSP:TRANSPARENT
X-MICROSOFT-CDO-ALLDAYEVENT:TRUE
SUMMARY:Wing of Golf Outing
DESCRIPTION:
X-ALT-DESC;FMTTYPE=text/html:
LOCATION:Twin Bridges Golf Club\, Danville. Proceeds benefit Sheltering Wings. For more information contact the Hendricks County Convention and Visitors Bureau - 718-8750
UID:e.2778.166
SEQUENCE:3
DTSTAMP:20260424T112951Z
URL:https://www.brownsburg.com/events/details/wing-of-golf-outing-08-15-2006-166
END:VEVENT

END:VCALENDAR
